


BEGIN:VCALENDAR
VERSION:2.0
PRODID:-//Corporate Alley Cat Members - ECPv5.3.0//NONSGML v1.0//EN
CALSCALE:GREGORIAN
METHOD:PUBLISH
X-WR-CALNAME:Corporate Alley Cat Members
X-ORIGINAL-URL:https://corporatealleycatmembers.com
X-WR-CALDESC:Events for Corporate Alley Cat Members
BEGIN:VTIMEZONE
TZID:America/Halifax
BEGIN:DAYLIGHT
TZOFFSETFROM:-0400
TZOFFSETTO:-0300
TZNAME:ADT
DTSTART:20200308T060000
END:DAYLIGHT
BEGIN:STANDARD
TZOFFSETFROM:-0300
TZOFFSETTO:-0400
TZNAME:AST
DTSTART:20201101T050000
END:STANDARD
END:VTIMEZONE
BEGIN:VEVENT
DTSTART;TZID=America/Halifax:20201210T000000
DTEND;TZID=America/Halifax:20201210T010000
DTSTAMP:20260420T181612
CREATED:20200513T160504Z
LAST-MODIFIED:20200601T173956Z
UID:3261-1607558400-1607562000@corporatealleycatmembers.com
SUMMARY:Live Q&A
DESCRIPTION:
URL:https://corporatealleycatmembers.com/event/live-qa-7/
END:VEVENT
END:VCALENDAR